BEGIN:VCALENDAR
VERSION:2.0
PRODID:-//Woods Hole Business Association - ECPv6.2.0.1//NONSGML v1.0//EN
CALSCALE:GREGORIAN
METHOD:PUBLISH
X-WR-CALNAME:Woods Hole Business Association
X-ORIGINAL-URL:https://woodshole.com
X-WR-CALDESC:Events for Woods Hole Business Association
REFRESH-INTERVAL;VALUE=DURATION:PT1H
X-Robots-Tag:noindex
X-PUBLISHED-TTL:PT1H
BEGIN:VTIMEZONE
TZID:UTC
BEGIN:STANDARD
TZOFFSETFROM:+0000
TZOFFSETTO:+0000
TZNAME:UTC
DTSTART:20240101T000000
END:STANDARD
END:VTIMEZONE
BEGIN:VEVENT
DTSTART;TZID=UTC:20241122T193000
DTEND;TZID=UTC:20241122T203000
DTSTAMP:20260422T155326
CREATED:20240925T123513Z
LAST-MODIFIED:20240925T123715Z
UID:13326-1732303800-1732307400@woodshole.com
SUMMARY:MBL Falmouth Forum: “The Horseshoe Crab: Ancient Mariner and Modern Medicine” - Michael Dawson\, Biologist
DESCRIPTION:Lectures are open to the public for in-person and virtual attendance. Free parking is available in any MBL lot. No registration required for in-person attendance. Doors open at 7:00 PM\, lectures start at 7:30 PM. \nLecture Abstract: Horseshoe crabs are iconic animals of Cape Cod with a fascinating biology\, some of which will be explored in this talk. Topics include their life cycle\, conservation status\, unique blood clotting mechanism\, and the discovery of Limulus amebocyte lysate (LAL) at the Marine Biological Laboratory. LAL testing has greatly benefited those who have received injectable therapies like vaccinations\, intravenous solutions\, and drugs\, as well as treatments with certain medical devices. Additionally\, the LAL test is used to diagnose suspected systemic fungal infections. \nMichael Dawson received an undergraduate degree in Zoology from the University of Wales and a Ph.D. from the Department of Oceanography at the University of Southampton\, both in the United Kingdom. Before graduate school\, he worked in Cambridge\, MA on the potential for marine bacteria to degrade oil in their environment. After earning his doctorate\, he taught Environmental Science for three years at the Roehampton Institute (now Roehampton University) in London. He then joined Associates of Cape Cod\, Inc. (ACC) in Falmouth\, MA\, where he worked for thirty years. During his time at ACC\, he advanced to Senior Vice President\, overseeing the production of reagents\, instrumentation\, and software. He concluded his career as the Director of Regulatory Affairs. While at ACC he gave presentations and taught courses around the world for organizations ranging from the Brazilian Pharmacopoeia to the Hyannis Rotary Club. He has served on the Horseshoe Crab Conservation Committee (now the Horseshoe Crab Conservation Association) on Cape Cod and the Advisory Panel to the Horseshoe Crab Management Board of the Atlantic States Marine Fisheries Commission.
URL:https://woodshole.com/event/mbl-falmouth-forum-the-horseshoe-crab-ancient-mariner-and-modern-medicine-michael-dawson-biologist/
LOCATION:Marine Biological Laboratory\, 7 MBL Street\, Woods Hole\, MA\, 02543\, United States
ATTACH;FMTTYPE=image/jpeg:https://woodshole.com/wp-content/uploads/2024/09/Michael-Dawson-1.jpg
ORGANIZER;CN="Marine%20Biological%20Laboratory":MAILTO:cjohnson@mbl.edu
END:VEVENT
BEGIN:VEVENT
DTSTART;VALUE=DATE:20241130
DTEND;VALUE=DATE:20241201
DTSTAMP:20260422T155326
CREATED:20241124T152747Z
LAST-MODIFIED:20241125T134232Z
UID:13740-1732924800-1733011199@woodshole.com
SUMMARY:Small Business Saturday
DESCRIPTION:Small Business Saturday is a nationally recognized day to celebrate and support small businesses and all they do for their local communities. When we talk about supporting small business in Woods Hole\, it’s practically impossible to not! Most Woods Hole businesses are independently owned\, and even a small shift in holiday spending towards a local business translates to a stronger local economy\, jobs and a more resilient community.  Each year on Small Business Saturday you can expect local retail stores to offer a sale or discount\, while our local restaurants typically participate by offering a happy hour special. \n\n\n\nShopping\n\n\n\nHandworks: 10% off \n\n\n\nMasterson Made: 20% off everything \n\n\n\nMBL Gift Shop: 20% off everything\, including sale \n\n\n\nSoft as a Grape: $199.99-$29.99 for familu favorites \n\n\n\nDining\n\n\n\nCaptain Kidd: $1 oysters & wings from 3-5pm \n\n\n\nLandfall: Happy Hour from 4-6pm & 10% off gift cards \n\n\n\nPie in the Sky: $1 hot coffee or tea & 20% off merchandise \n\n\n\nThe Leeside: 50% off appetizer 5-7pm & $5 free gift card for every $35 gift card purchase \n\n\n\nWoods Hole Market & General Store: Holiday Gift Basket raffle \n\nLodging\n\nWoods Hole Inn: 20% off gift certificates \n\n\n\nTreehouse Lodge: 20% off gift certificates
URL:https://woodshole.com/event/small-business-saturday-2/
LOCATION:Woods Hole
ATTACH;FMTTYPE=image/jpeg:https://woodshole.com/wp-content/uploads/2024/11/SBS-2024-banner.jpg
END:VEVENT
END:VCALENDAR