BEGIN:VCALENDAR
VERSION:2.0
PRODID:-//Woods Hole Business Association - ECPv6.2.0.1//NONSGML v1.0//EN
CALSCALE:GREGORIAN
METHOD:PUBLISH
X-ORIGINAL-URL:https://woodshole.com
X-WR-CALDESC:Events for Woods Hole Business Association
REFRESH-INTERVAL;VALUE=DURATION:PT1H
X-Robots-Tag:noindex
X-PUBLISHED-TTL:PT1H
BEGIN:VTIMEZONE
TZID:UTC
BEGIN:STANDARD
TZOFFSETFROM:+0000
TZOFFSETTO:+0000
TZNAME:UTC
DTSTART:20230101T000000
END:STANDARD
END:VTIMEZONE
BEGIN:VEVENT
DTSTART;TZID=UTC:20231008T190000
DTEND;TZID=UTC:20231011T220000
DTSTAMP:20260420T145144
CREATED:20230919T151404Z
LAST-MODIFIED:20230919T151404Z
UID:4991-1696791600-1697061600@woodshole.com
SUMMARY:WHFF Best of the Fest at Cotuit 2023
DESCRIPTION:The Woods Hole Film Festival returns to the Cotuit Center for the Arts for the Best of the Fest screening series – 2023 edition. \nThis four-night\, seven screening event features five feature films and two shorts programs of award winners from the 2023 summer festival. \nSunday\, October 8 • 7pm\nARIEL – BACK TO BUENOS AIRES\nNarrative Feature by Alison Murray\n(Canada/Argentina\, 2022)\n__________________________ \nMonday\, October 9 • 6pm\nPATROL\nDocumentary Feature by Camilo de Castro & Brad Allgood\n(Nicaragua\, 2023) \nMonday\, October 9 • 8pm\nAWARD-WINNING SHORTS 1\nFive award-winning short films.\n(Various)\n__________________________ \nTuesday\, October 10 • 6pm\nAWARD-WINNING SHORTS\nFive award-winning short films.\n(Various) \nTuesday\, October 10 • 8pm\nLAKELANDS\nNarrative Feature by Robert Higgins & Patrick McGivney\n(Ireland\, 2023)\n__________________________ \nWednesday\, October 11 • 6pm\nDUSTY & STONES\nDocumentary Feature by Jesse Rudoy\n(USA\, 2022) \nWednesday\, October 11 • 8pm\n26.2 to LIFE\nDocumentary Feature by Christine Yoo\n(USA\, 2022) \nTickets are $16 (general) and $12 (CCftA and WHFF members) \nClick ticket link for film details and tickets\, or visit:\nhttps://artsonthecape.org/explore?cat=whff \nCotuit Center for the Arts is located at 4404 Falmouth Road (Route 28) in Cotuit. Call 508-428-0669 for more info.
URL:https://woodshole.com/event/whff-best-of-the-fest-at-cotuit-2023/
LOCATION:Cotuit Center for the Arts\, 4404 Falmouth Road (Route 28)\, Cotuit\, 02635\, United States
ATTACH;FMTTYPE=image/jpeg:https://woodshole.com/wp-content/uploads/2023/08/WHFF-Best-of-the-Fest-slider-image-for-home-page-01-scaled.jpg
ORGANIZER;CN="Woods%20Hole%20Film%20Festival":MAILTO:info@woodsholefilmfestival.org
END:VEVENT
BEGIN:VEVENT
DTSTART;TZID=UTC:20231009T180000
DTEND;TZID=UTC:20231009T220000
DTSTAMP:20260420T145144
CREATED:20230919T151424Z
LAST-MODIFIED:20230919T151424Z
UID:4992-1696874400-1696888800@woodshole.com
SUMMARY:WHFF Best of the Fest at Cotuit 2023
DESCRIPTION:The Woods Hole Film Festival returns to the Cotuit Center for the Arts for the Best of the Fest screening series – 2023 edition. \nThis four-night\, seven screening event features five feature films and two shorts programs of award winners from the 2023 summer festival. \nSunday\, October 8 • 7pm\nARIEL – BACK TO BUENOS AIRES\nNarrative Feature by Alison Murray\n(Canada/Argentina\, 2022)\n__________________________ \nMonday\, October 9 • 6pm\nPATROL\nDocumentary Feature by Camilo de Castro & Brad Allgood\n(Nicaragua\, 2023) \nMonday\, October 9 • 8pm\nAWARD-WINNING SHORTS 1\nFive award-winning short films.\n(Various)\n__________________________ \nTuesday\, October 10 • 6pm\nAWARD-WINNING SHORTS\nFive award-winning short films.\n(Various) \nTuesday\, October 10 • 8pm\nLAKELANDS\nNarrative Feature by Robert Higgins & Patrick McGivney\n(Ireland\, 2023)\n__________________________ \nWednesday\, October 11 • 6pm\nDUSTY & STONES\nDocumentary Feature by Jesse Rudoy\n(USA\, 2022) \nWednesday\, October 11 • 8pm\n26.2 to LIFE\nDocumentary Feature by Christine Yoo\n(USA\, 2022) \nTickets are $16 (general) and $12 (CCftA and WHFF members) \nClick ticket link for film details and tickets\, or visit:\nhttps://artsonthecape.org/explore?cat=whff \nCotuit Center for the Arts is located at 4404 Falmouth Road (Route 28) in Cotuit. Call 508-428-0669 for more info.
URL:https://woodshole.com/event/2023-10-09/
LOCATION:Cotuit Center for the Arts\, 4404 Falmouth Road (Route 28)\, Cotuit\, 02635\, United States
ATTACH;FMTTYPE=image/jpeg:https://woodshole.com/wp-content/uploads/2023/08/WHFF-Best-of-the-Fest-slider-image-for-home-page-01-scaled.jpg
ORGANIZER;CN="Woods%20Hole%20Film%20Festival":MAILTO:info@woodsholefilmfestival.org
END:VEVENT
BEGIN:VEVENT
DTSTART;TZID=UTC:20231010T180000
DTEND;TZID=UTC:20231010T220000
DTSTAMP:20260420T145144
CREATED:20230919T151443Z
LAST-MODIFIED:20230919T151443Z
UID:4993-1696960800-1696975200@woodshole.com
SUMMARY:WHFF Best of the Fest at Cotuit 2023
DESCRIPTION:The Woods Hole Film Festival returns to the Cotuit Center for the Arts for the Best of the Fest screening series – 2023 edition. \nThis four-night\, seven screening event features five feature films and two shorts programs of award winners from the 2023 summer festival. \nSunday\, October 8 • 7pm\nARIEL – BACK TO BUENOS AIRES\nNarrative Feature by Alison Murray\n(Canada/Argentina\, 2022)\n__________________________ \nMonday\, October 9 • 6pm\nPATROL\nDocumentary Feature by Camilo de Castro & Brad Allgood\n(Nicaragua\, 2023) \nMonday\, October 9 • 8pm\nAWARD-WINNING SHORTS 1\nFive award-winning short films.\n(Various)\n__________________________ \nTuesday\, October 10 • 6pm\nAWARD-WINNING SHORTS\nFive award-winning short films.\n(Various) \nTuesday\, October 10 • 8pm\nLAKELANDS\nNarrative Feature by Robert Higgins & Patrick McGivney\n(Ireland\, 2023)\n__________________________ \nWednesday\, October 11 • 6pm\nDUSTY & STONES\nDocumentary Feature by Jesse Rudoy\n(USA\, 2022) \nWednesday\, October 11 • 8pm\n26.2 to LIFE\nDocumentary Feature by Christine Yoo\n(USA\, 2022) \nTickets are $16 (general) and $12 (CCftA and WHFF members) \nClick ticket link for film details and tickets\, or visit:\nhttps://artsonthecape.org/explore?cat=whff \nCotuit Center for the Arts is located at 4404 Falmouth Road (Route 28) in Cotuit. Call 508-428-0669 for more info.
URL:https://woodshole.com/event/2023-10-10/
LOCATION:Cotuit Center for the Arts\, 4404 Falmouth Road (Route 28)\, Cotuit\, 02635\, United States
ATTACH;FMTTYPE=image/jpeg:https://woodshole.com/wp-content/uploads/2023/08/WHFF-Best-of-the-Fest-slider-image-for-home-page-01-scaled.jpg
ORGANIZER;CN="Woods%20Hole%20Film%20Festival":MAILTO:info@woodsholefilmfestival.org
END:VEVENT
BEGIN:VEVENT
DTSTART;TZID=UTC:20231011T180000
DTEND;TZID=UTC:20231011T220000
DTSTAMP:20260420T145144
CREATED:20230919T151458Z
LAST-MODIFIED:20230919T151458Z
UID:4994-1697047200-1697061600@woodshole.com
SUMMARY:WHFF Best of the Fest at Cotuit 2023
DESCRIPTION:The Woods Hole Film Festival returns to the Cotuit Center for the Arts for the Best of the Fest screening series – 2023 edition. \nThis four-night\, seven screening event features five feature films and two shorts programs of award winners from the 2023 summer festival. \nSunday\, October 8 • 7pm\nARIEL – BACK TO BUENOS AIRES\nNarrative Feature by Alison Murray\n(Canada/Argentina\, 2022)\n__________________________ \nMonday\, October 9 • 6pm\nPATROL\nDocumentary Feature by Camilo de Castro & Brad Allgood\n(Nicaragua\, 2023) \nMonday\, October 9 • 8pm\nAWARD-WINNING SHORTS 1\nFive award-winning short films.\n(Various)\n__________________________ \nTuesday\, October 10 • 6pm\nAWARD-WINNING SHORTS\nFive award-winning short films.\n(Various) \nTuesday\, October 10 • 8pm\nLAKELANDS\nNarrative Feature by Robert Higgins & Patrick McGivney\n(Ireland\, 2023)\n__________________________ \nWednesday\, October 11 • 6pm\nDUSTY & STONES\nDocumentary Feature by Jesse Rudoy\n(USA\, 2022) \nWednesday\, October 11 • 8pm\n26.2 to LIFE\nDocumentary Feature by Christine Yoo\n(USA\, 2022) \nTickets are $16 (general) and $12 (CCftA and WHFF members) \nClick ticket link for film details and tickets\, or visit:\nhttps://artsonthecape.org/explore?cat=whff \nCotuit Center for the Arts is located at 4404 Falmouth Road (Route 28) in Cotuit. Call 508-428-0669 for more info.
URL:https://woodshole.com/event/2023-10-11/
LOCATION:Cotuit Center for the Arts\, 4404 Falmouth Road (Route 28)\, Cotuit\, 02635\, United States
ATTACH;FMTTYPE=image/jpeg:https://woodshole.com/wp-content/uploads/2023/08/WHFF-Best-of-the-Fest-slider-image-for-home-page-01-scaled.jpg
ORGANIZER;CN="Woods%20Hole%20Film%20Festival":MAILTO:info@woodsholefilmfestival.org
END:VEVENT
BEGIN:VEVENT
DTSTART;TZID=UTC:20231013T193000
DTEND;TZID=UTC:20231013T203000
DTSTAMP:20260420T145144
CREATED:20230919T151526Z
LAST-MODIFIED:20230919T151526Z
UID:5120-1697225400-1697229000@woodshole.com
SUMMARY:MBL Falmouth Forum: How WHOI Helped write "Horse"\, An Inside Look at a Novelist's Research Journey  Geraldine Brooks\, Author
DESCRIPTION:Geraldine Brooks’ 2022 novel\, Horse\, spent ten weeks on the New York Times best seller list. In this lecture\, she will describe how the true story of the 19th century’s greatest racehorse led her from the Osteo-Prep lab at the Smithsonian Support Center and the Necropsy Suite at the Woods Hole Oceanographic Institution\, to some of the most famous art collections of the 20th century. \nGeraldine Brooks is the author of six works of historical fiction\, including the 2006 Pulitzer Prize winner\, March and most recently\, the bestselling novel\, Horse (Viking)\, which recently received the Anisfield-Wolf Book Award and the Dayton Literary Peace prize. An award-winning former foreign correspondent for the Wall Street Journal\, the Australian-born Brooks is also author of the non-fiction works\, Nine Parts of Desire and Foreign Correspondence. She lives in West Tisbury\, Massachusetts where she is a Conservation Commissioner. \nA book signing will follow the presentation. Books available for purchase on event night from Eight Cousins Books.
URL:https://woodshole.com/event/mbl-falmouth-forum-how-whoi-helped-write-horse-an-inside-look-at-a-novelists-research-journey-geraldine-brooks-author/
LOCATION:Marine Biological Laboratory\, 7 MBL Street\, Woods Hole\, MA\, 02543\, United States
ATTACH;FMTTYPE=image/jpeg:https://woodshole.com/wp-content/uploads/2023/09/BAIRD_Brooks.jpg
ORGANIZER;CN="Marine%20Biological%20Laboratory":MAILTO:cjohnson@mbl.edu
END:VEVENT
BEGIN:VEVENT
DTSTART;TZID=UTC:20231018T193000
DTEND;TZID=UTC:20231018T203000
DTSTAMP:20260420T145144
CREATED:20231011T204524Z
LAST-MODIFIED:20231011T204524Z
UID:5238-1697657400-1697661000@woodshole.com
SUMMARY:Becoming a Marine Biologist
DESCRIPTION:What it takes\, and where it can take you\nAs a child\, who hasn’t dreamed of exploring the ocean to study the amazing animals that live there—but what does it take to become a marine biologist\, and what would your career look like once you got the degree? \nJoin us as we talk with three marine biologists about their differing career paths and how they got to where they are today.
URL:https://woodshole.com/event/becoming-a-marine-biologist/
LOCATION:Redfield Auditorium\, Water Street\, Woods Hole\, MA\, 02543\, United States
ATTACH;FMTTYPE=image/png:https://woodshole.com/wp-content/uploads/2023/10/Screen-Shot-2023-10-10-at-2.16.51-PM.png
END:VEVENT
BEGIN:VEVENT
DTSTART;TZID=UTC:20231028T160000
DTEND;TZID=UTC:20231028T180000
DTSTAMP:20260420T145144
CREATED:20231016T200205Z
LAST-MODIFIED:20231016T200205Z
UID:5255-1698508800-1698516000@woodshole.com
SUMMARY:Halloween in the Hole
DESCRIPTION:Residents and businesses flex their creative pumpkin-carving skills and show off their finished products along Water Street on the Saturday of Halloween weekend. Your favorite Woods Hole shops and restaurants get in costume and give out candy and refreshments to sugar-happy passersby. Pumpkins lit at dusk.
URL:https://woodshole.com/event/halloween-in-the-hole-2/
LOCATION:Woods Hole
ATTACH;FMTTYPE=image/png:https://woodshole.com/wp-content/uploads/2023/10/Screen-Shot-2023-10-15-at-2.11.05-PM.png
END:VEVENT
END:VCALENDAR