BEGIN:VCALENDAR
VERSION:2.0
PRODID:-//Woods Hole Business Association - ECPv6.2.0.1//NONSGML v1.0//EN
CALSCALE:GREGORIAN
METHOD:PUBLISH
X-WR-CALNAME:Woods Hole Business Association
X-ORIGINAL-URL:https://woodshole.com
X-WR-CALDESC:Events for Woods Hole Business Association
REFRESH-INTERVAL;VALUE=DURATION:PT1H
X-Robots-Tag:noindex
X-PUBLISHED-TTL:PT1H
BEGIN:VTIMEZONE
TZID:UTC
BEGIN:STANDARD
TZOFFSETFROM:+0000
TZOFFSETTO:+0000
TZNAME:UTC
DTSTART:20230101T000000
END:STANDARD
END:VTIMEZONE
BEGIN:VEVENT
DTSTART;TZID=UTC:20230611T140000
DTEND;TZID=UTC:20230611T150000
DTSTAMP:20260422T123716
CREATED:20230607T215359Z
LAST-MODIFIED:20230607T215359Z
UID:4771-1686492000-1686495600@woodshole.com
SUMMARY:MBL Falmouth Forum: “ROGUES: True Stories of Grifters\, Killers\, Rebels and Crooks—12 Tales of Skulduggery and Intrigue" - Patrick Radden Keefe
DESCRIPTION:Join us for a conversation with Patrick Radden Keefe\, award-winning staff writer at The New Yorker magazine and bestselling author who will discuss his New York Times bestselling book Rogues: True Stories of Grifters\, Killers\, Rebels and Crooks with Mindy Todd\, host and producer of The Point on CAI\, the Cape and Islands NPR station. Rogues brings together a dozen of Radden Keefe’s most celebrated articles from The New Yorker\, covering a dozen years\, most of them about people behaving badly. \nA book signing will follow the presentation. Books available for purchase on event night from Eight Cousins Books. \nPatrick Radden Keefe is an award-winning staff writer at The New Yorker magazine and author of the New York Times bestsellers Empire of Pain and Say Nothing\, as well as two earlier nonfiction books: The Snakehead and Chatter. His most recent book is Rogues: True Stories of Grifters\, Killers\, Rebels and Crooks. \nRadden Keefe started contributing to The New Yorker in 2006. He received the National Magazine Award for Feature Writing in 2014. Say Nothing received the National Book Critics Circle Award for Nonfiction\, as well as the Orwell Prize for Political Writing\, and was selected by Entertainment Weekly as one of the “10 Best Nonfiction Books of the Decade.” Empire of Pain was awarded the Baillie Gifford Prize for Nonfiction and was a finalist for the FT Business Book of the Year. \nHe is also the writer and host of WIND OF CHANGE\, an 8-part podcast series\, which investigates the strange convergence of espionage and heavy metal music during the Cold War and was named the #1 podcast of 2020 by The Guardian. \nRadden Keefe grew up in Dorchester\, Massachusetts and went to college at Columbia. He received masters degrees from Cambridge University and the London School of Economics\, and a law degree from Yale. He is the recipient of a Guggenheim fellowship\, and fellowships from the New America Foundation\, the Woodrow Wilson International Center for Scholars\, and the Cullman Center for Scholars and Writers at the New York Public Library. He lives in New York. \nMindy Todd is Managing Director of Editorial at CAI and host and producer of The Point\, which examines critical issues for Cape Cod and the Islands. Her 30+ year career has covered nearly all aspects of broadcasting. Todd has received numerous awards\, most recently her 5th National PRNDI (Public Radio News Directors Incorporated) award for best Call-in program and best Interview. \nPhoto Credit: Philip Montgomery
URL:https://woodshole.com/event/mbl-falmouth-forum-rogues-true-stories-of-grifters-killers-rebels-and-crooks-12-tales-of-skulduggery-and-intrigue-patrick-radden-keefe/
LOCATION:Marine Biological Laboratory\, 7 MBL Street\, Woods Hole\, MA\, 02543\, United States
ATTACH;FMTTYPE=image/png:https://woodshole.com/wp-content/uploads/2023/05/Patrick-Radden-Keefe.png
ORGANIZER;CN="Marine%20Biological%20Laboratory":MAILTO:cjohnson@mbl.edu
END:VEVENT
BEGIN:VEVENT
DTSTART;TZID=UTC:20230616T200000
DTEND;TZID=UTC:20230616T210000
DTSTAMP:20260422T123716
CREATED:20230614T013254Z
LAST-MODIFIED:20230614T013254Z
UID:4804-1686945600-1686949200@woodshole.com
SUMMARY:MBL Friday Evening Lecture Series: “Changing the Complexion of the Life Sciences” - Kenneth Turner
DESCRIPTION:Lecture Abstract:\nThe life sciences is the sector ready for the moment we’re in. The life sciences remain a major economic and workforce driver for Massachusetts. But until recently\, you’d be hard pressed for people to recognize names like Moderna\, ThermoFisher\, or the role an MBI plays in Worcester or LabCentral in Cambridge. The COVID-19 vaccine has literally and figuratively given our society a shot in the arm about the impact of the life sciences. Yet\, we have companies across all sectors experiencing a crisis in finding talent. The future of work and demographic shifts adds significant layers of opportunities and challenges to this. The life sciences is positioned to meet these converging forces perfectly. Our key priority must be to meet the clarion call to continue to engage young women and men of color early on in STEM and the opportunities it can offer\, to capture their interest and curiosity. Then supporting them through middle school\, high school\, and college\, and preparing them for a career that they deserve opportunity in. For Turner\, it comes down to role models. People need to envision themselves in any job or career\, STEM or otherwise. Young people of color need to see scientists\, engineers\, chemists\, and data scientists who look like them. This requires a paradigm shift and thinking differently and acting boldly. Turner will discuss his background in service to our nation and his success in the private and public sectors. He will also provide an overview on how we can take the current state of play and change the complexion of the life sciences—the critical component of Massachusetts remaining the global leader in this space. \nKenneth Turner is President and CEO of the Massachusetts Life Sciences Center (MLSC)\, an economic development and investment agency dedicated to supporting the growth and development of the life sciences in Massachusetts. He directs and oversees the center’s operations\, investment strategy\, programs\, and partnerships. Prior to joining the MLSC\, Turner served as Director of Diversity & Inclusion/Compliance with Massport. He oversaw and managed the Authority’s multiple diversity programs\, including business and supplier diversity\, workforce diversity\, and airport concessions\, as well as all compliance initiatives associated with Massport’s Disadvantaged/Minority/Women Business Enterprise programs. Previously\, Turner served as Deputy Secretary for Administration & Finance for the Commonwealth of Massachusetts Department of Veterans’ Services. He has over 20 years of general management and executive experience in various Fortune 100 media and package goods companies including having served as Senior Vice President of Emerging Markets at AOL Time Warner as well as having held various marketing positions at Hallmark Cards and Hasbro Toys. A retired U.S. Navy Captain and submarine nuclear weapons system officer with 26-years of service\, Turner holds a B.S. degree from Southern University and A&M College\, Baton Rouge\, LA.
URL:https://woodshole.com/event/mbl-friday-evening-lecture-series-changing-the-complexion-of-the-life-sciences-kenneth-turner/
LOCATION:The Cornelia Clapp Auditorium\, MBL Street\, Woods Hole\, MA\, 02543\, United States
ATTACH;FMTTYPE=image/jpeg:https://woodshole.com/wp-content/uploads/2023/06/Kenneth-Turner.jpg
ORGANIZER;CN="Marine%20Biological%20Laboratory":MAILTO:cjohnson@mbl.edu
END:VEVENT
END:VCALENDAR