BEGIN:VCALENDAR
VERSION:2.0
PRODID:-//Woods Hole Business Association - ECPv6.2.0.1//NONSGML v1.0//EN
CALSCALE:GREGORIAN
METHOD:PUBLISH
X-ORIGINAL-URL:https://woodshole.com
X-WR-CALDESC:Events for Woods Hole Business Association
REFRESH-INTERVAL;VALUE=DURATION:PT1H
X-Robots-Tag:noindex
X-PUBLISHED-TTL:PT1H
BEGIN:VTIMEZONE
TZID:UTC
BEGIN:STANDARD
TZOFFSETFROM:+0000
TZOFFSETTO:+0000
TZNAME:UTC
DTSTART:20220101T000000
END:STANDARD
END:VTIMEZONE
BEGIN:VEVENT
DTSTART;TZID=UTC:20221202T173000
DTEND;TZID=UTC:20221202T183000
DTSTAMP:20260424T140235
CREATED:20221121T162449Z
LAST-MODIFIED:20221121T162449Z
UID:4618-1670002200-1670005800@woodshole.com
SUMMARY:Caroling in Woods Hole Village
DESCRIPTION:Join us as we herald in the Christmas Season with Caroling at Woods Hole Waterfront Park \nThe Solstice Singers will lead us in a festive seasonal sing-a-long of Holiday classics \nHot cocoa and cookies will be provided by the Falmouth Chamber of Commerce
URL:https://woodshole.com/event/caroling-in-woods-hole-village/
LOCATION:Woods Hole  Waterfront Park\, 112-138 Water Street\, Woods Hole\, 02543\, United States
END:VEVENT
BEGIN:VEVENT
DTSTART;TZID=UTC:20221202T190000
DTEND;TZID=UTC:20221202T210000
DTSTAMP:20260424T140235
CREATED:20221121T155341Z
LAST-MODIFIED:20221121T155341Z
UID:4600-1670007600-1670014800@woodshole.com
SUMMARY:WHFF presents A CAPE COD CHRISTMAS
DESCRIPTION:Back by popular demand! On Friday\, December 2\, at 7 pm\, the Woods Hole Film Festival presents a special event screening of A CAPE COD CHRISTMAS by John Stimpson at Clapp Auditorium\, Marine Biological Laboratory\, 7 MBL Street\, Woods Hole. \nABOUT THE FILM\nWhen a children’s author comes down to the Cape to host one last Christmas dinner with her disagreeable siblings before they sell the family house\, she reunites with her childhood sweetheart\, a local artist\, who helps her find a way to keep the house she loves so dearly. Filmed entirely in Falmouth\, MA. Starring Katie Leclerc and Brent Bailey\, 90 mins\, 2021. \nQ&A with writer/director John Stimpson following the film. \nTickets $20\, $16 for members. For more information call 508-495-3456.
URL:https://woodshole.com/event/whff-presents-a-cape-cod-christmas/
LOCATION:The Cornelia Clapp Auditorium\, MBL Street\, Woods Hole\, MA\, 02543\, United States
ATTACH;FMTTYPE=image/jpeg:https://woodshole.com/wp-content/uploads/2022/11/A-Cape-Cod-Christmas-copy.jpg
ORGANIZER;CN="Woods%20Hole%20Film%20Festival":MAILTO:info@woodsholefilmfestival.org
END:VEVENT
BEGIN:VEVENT
DTSTART;TZID=UTC:20221209T193000
DTEND;TZID=UTC:20221209T203000
DTSTAMP:20260424T140235
CREATED:20221206T231615Z
LAST-MODIFIED:20221206T231615Z
UID:4635-1670614200-1670617800@woodshole.com
SUMMARY:MBL Falmouth Forum: “The Changing Face of Whale Trauma: What We Know and Have to Do” - Michael Moore
DESCRIPTION:Large whales have suffered at the hand of man for millennia: by intent with harpoons\, and recently by mistake through vessel collisions\, and fishing gear entanglements. This has affected both the status of populations\, and the welfare of individuals. The latter most especially\, where larger species\, such as North Atlantic right whales\, have the power to swim off with entangling gear\, whose deleterious effects can take months to be lethal. In this talk Moore will discuss how he\, as a veterinarian and a scientist\, and his colleagues have used diagnostics\, energetics\, therapeutics\, and photogrammetric health assessment to gain this understanding. He will also lay out the steps they are taking\, collaboratively with the fishing industry\, to enable both the industry and the animals to prosper. \nMichael J. Moore is a veterinary scientist at the Woods Hole Oceanographic Institution. He has studied the effects of trauma from the shipping and fishing industries on North Atlantic right whale (NARW) survival and welfare. He is currently assessing NARW health using aerial photogrammetry and working with a group of stakeholders to establish ‘On-Demand’ fishing systems as a viable tool to remove entangling line from the water column.
URL:https://woodshole.com/event/mbl-falmouth-forum-the-changing-face-of-whale-trauma-what-we-know-and-have-to-do-michael-moore/
LOCATION:MA
ATTACH;FMTTYPE=image/jpeg:https://woodshole.com/wp-content/uploads/2022/12/Michael-Moore.jpeg
ORGANIZER;CN="Marine%20Biological%20Laboratory":MAILTO:cjohnson@mbl.edu
END:VEVENT
BEGIN:VEVENT
DTSTART;TZID=UTC:20221210T190000
DTEND;TZID=UTC:20221210T203000
DTSTAMP:20260424T140235
CREATED:20221121T155359Z
LAST-MODIFIED:20221121T155359Z
UID:4602-1670698800-1670704200@woodshole.com
SUMMARY:WHFF presents EXPOSING MUYBRIDGE
DESCRIPTION:On Saturday\, December 10th at 7 pm at Redfield Auditorium\, 45 Water Street Woods Hole\, the Woods Hole Film Festival presents a screening of the feature documentary film EXPOSING MUYBRIDGE by Mark Shaffer. \nABOUT THE FILM\nThe story of trailblazing 19th-century photographer Eadweard Muybridge\, who changed the world with his camera. Muybridge set the course for the development of cinema when he became the first photographer to capture something moving faster than the human eye can see–Leland Stanford’s galloping horses. He also produced a sprawling and spectacular landscape catalog\, ranging from Alaska to Central America\, Utah to California. Artful\, resilient\, selfish\, naive\, eccentric\, deceitful–Muybridge was a complicated\, imperfect man and his story drips with ambition and success\, loss and betrayal\, near death experiences and even murder. More than a century after his death\, Muybridge’s photographs have never ceased to seduce cutting-edge artists\, scientists\, innovators\, and general viewers alike. 88 minutes\, 2021. \nFor information call 508-495-3456
URL:https://woodshole.com/event/whff-presents-exposing-muybridge/
LOCATION:Redfield Auditorium\, Water Street\, Woods Hole\, MA\, 02543\, United States
ATTACH;FMTTYPE=image/jpeg:https://woodshole.com/wp-content/uploads/2022/11/Exposing-Muybridge_1.jpeg
ORGANIZER;CN="Woods%20Hole%20Film%20Festival":MAILTO:info@woodsholefilmfestival.org
END:VEVENT
BEGIN:VEVENT
DTSTART;VALUE=DATE:20221217
DTEND;VALUE=DATE:20221218
DTSTAMP:20260424T140235
CREATED:20221207T171208Z
LAST-MODIFIED:20221207T171420Z
UID:4649-1671235200-1671321599@woodshole.com
SUMMARY:Woods Hole Holiday Stroll
DESCRIPTION:Community support powered by Martha’s Vineyard Bank \nSchedule of events\nWOODS HOLE SCIENCE AQUARIUM\n11 am Santa arrives!\n11 am-2 pm Meet Santa  (Aquarium hours: 10-3pm) \nMARTHA’S VINEYARD BANK\n11 am-1 pm Hot drinks and treats with Mrs. Claus in front of the bank \nWOODS HOLE PUBLIC LIBRARY\n1-5:30 pm Library & book sale and craft supplies available in children’s room \nMASTERSON MADE\n3-4 pm Wine tasting and charcuterie board. Cutting board raffle \nCAPTAIN KIDD\n4-6 pm $1 oysters/$1 wings \nCOMMUNITY HALL\nThe Solstice Singers presentation of “The Holly and the Ivy”. Showings at 4 pm and 7 pm \nWOODS HOLE MARKET & PROVISIONS\nHoliday treats and gift card raffle \nSOFT AS A GRAPE\n20% off sweatshirts\, sweatpants\, blankets\, ponchos & winter accessories \nWOODS HOLE INN\nTasty treats & tour of decorative Woods Hole Inn \nINLET\nRefreshments and pop up with LilWolfGoods \nPIE IN THE SKY\nHot apple cider & gift card raffle
URL:https://woodshole.com/event/woods-hole-holiday-stroll/
LOCATION:Woods Hole
ATTACH;FMTTYPE=image/jpeg:https://woodshole.com/wp-content/uploads/2022/12/WH-Stroll-ad-v3-full-scaled.jpg
END:VEVENT
END:VCALENDAR