BEGIN:VCALENDAR
VERSION:2.0
PRODID:-//Woods Hole Business Association - ECPv6.2.0.1//NONSGML v1.0//EN
CALSCALE:GREGORIAN
METHOD:PUBLISH
X-WR-CALNAME:Woods Hole Business Association
X-ORIGINAL-URL:https://woodshole.com
X-WR-CALDESC:Events for Woods Hole Business Association
REFRESH-INTERVAL;VALUE=DURATION:PT1H
X-Robots-Tag:noindex
X-PUBLISHED-TTL:PT1H
BEGIN:VTIMEZONE
TZID:UTC
BEGIN:STANDARD
TZOFFSETFROM:+0000
TZOFFSETTO:+0000
TZNAME:UTC
DTSTART:20220101T000000
END:STANDARD
END:VTIMEZONE
BEGIN:VEVENT
DTSTART;VALUE=DATE:20221029
DTEND;VALUE=DATE:20221030
DTSTAMP:20260422T143540
CREATED:20221023T201025Z
LAST-MODIFIED:20221023T201507Z
UID:4580-1667001600-1667087999@woodshole.com
SUMMARY:Halloween in the Hole
DESCRIPTION:See full detail here.
URL:https://woodshole.com/event/halloween-in-the-hole/
LOCATION:MA
ATTACH;FMTTYPE=image/png:https://woodshole.com/wp-content/uploads/2022/10/Halloween-in-the-Hole-FINAL.png
END:VEVENT
BEGIN:VEVENT
DTSTART;TZID=UTC:20221029T200000
DTEND;TZID=UTC:20221029T230000
DTSTAMP:20260422T143540
CREATED:20221023T201340Z
LAST-MODIFIED:20221023T201340Z
UID:4583-1667073600-1667084400@woodshole.com
SUMMARY:Captain Kidd Best Costume Halloween Party
DESCRIPTION:
URL:https://woodshole.com/event/captain-kidd-best-costume-halloween-party/
LOCATION:Captain Kidd\, 77 Water Street\, Woods Hole\, MA\, 02543\, United States
END:VEVENT
END:VCALENDAR