BEGIN:VCALENDAR
VERSION:2.0
PRODID:-//Woods Hole Business Association - ECPv6.2.0.1//NONSGML v1.0//EN
CALSCALE:GREGORIAN
METHOD:PUBLISH
X-WR-CALNAME:Woods Hole Business Association
X-ORIGINAL-URL:https://woodshole.com
X-WR-CALDESC:Events for Woods Hole Business Association
REFRESH-INTERVAL;VALUE=DURATION:PT1H
X-Robots-Tag:noindex
X-PUBLISHED-TTL:PT1H
BEGIN:VTIMEZONE
TZID:UTC
BEGIN:STANDARD
TZOFFSETFROM:+0000
TZOFFSETTO:+0000
TZNAME:UTC
DTSTART:20200101T000000
END:STANDARD
END:VTIMEZONE
BEGIN:VEVENT
DTSTART;TZID=UTC:20200518T113000
DTEND;TZID=UTC:20200518T190000
DTSTAMP:20260425T234714
CREATED:20200504T163926Z
LAST-MODIFIED:20200504T163956Z
UID:3799-1589801400-1589828400@woodshole.com
SUMMARY:Quick's Hole Taqueria Opens!
DESCRIPTION:Quick’s Hole Taqueria will be open for take out service.
URL:https://woodshole.com/event/quicks-hole-taqueria-opens/
LOCATION:MA
ATTACH;FMTTYPE=image/png:https://woodshole.com/wp-content/uploads/2020/05/tacos.png
END:VEVENT
BEGIN:VEVENT
DTSTART;TZID=UTC:20200515T170000
DTEND;TZID=UTC:20200515T200000
DTSTAMP:20260425T234714
CREATED:20200504T163645Z
LAST-MODIFIED:20200513T150622Z
UID:3796-1589562000-1589572800@woodshole.com
SUMMARY:The Captain Kidd Opens
DESCRIPTION:The Captain Kidd opens today with a limited lunch/dinner menu to go!
URL:https://woodshole.com/event/the-captain-kidd-opens/
LOCATION:MA
ATTACH;FMTTYPE=image/png:https://woodshole.com/wp-content/uploads/2020/05/Screen-Shot-2020-05-04-at-12.36.05-PM.png
END:VEVENT
BEGIN:VEVENT
DTSTART;TZID=UTC:20200509T090000
DTEND;TZID=UTC:20200509T130000
DTSTAMP:20260425T234714
CREATED:20200504T181502Z
LAST-MODIFIED:20200504T181502Z
UID:3823-1589014800-1589029200@woodshole.com
SUMMARY:Pie in the Sky Opens!
DESCRIPTION:Pie in the Sky will be open weekends from 9-1 with a limited menu.
URL:https://woodshole.com/event/pie-in-the-sky-opens/
LOCATION:MA
ATTACH;FMTTYPE=image/jpeg:https://woodshole.com/wp-content/uploads/2020/05/DSC_0015-scaled.jpg
END:VEVENT
BEGIN:VEVENT
DTSTART;TZID=UTC:20200506T120000
DTEND;TZID=UTC:20200506T190000
DTSTAMP:20260425T234714
CREATED:20200402T202937Z
LAST-MODIFIED:20200504T160956Z
UID:3472-1588766400-1588791600@woodshole.com
SUMMARY:Landfall Opens
DESCRIPTION:The Landfall will be open with a clam shack-style menu to go including fried seafood and other quick bites.
URL:https://woodshole.com/event/sample-event/
LOCATION:MA
ATTACH;FMTTYPE=image/png:https://woodshole.com/wp-content/uploads/2020/04/Screen-Shot-2020-05-04-at-12.08.18-PM.png
END:VEVENT
END:VCALENDAR