BEGIN:VCALENDAR
VERSION:2.0
PRODID:-//Woods Hole Business Association - ECPv6.2.0.1//NONSGML v1.0//EN
CALSCALE:GREGORIAN
METHOD:PUBLISH
X-WR-CALNAME:Woods Hole Business Association
X-ORIGINAL-URL:https://woodshole.com
X-WR-CALDESC:Events for Woods Hole Business Association
REFRESH-INTERVAL;VALUE=DURATION:PT1H
X-Robots-Tag:noindex
X-PUBLISHED-TTL:PT1H
BEGIN:VTIMEZONE
TZID:UTC
BEGIN:STANDARD
TZOFFSETFROM:+0000
TZOFFSETTO:+0000
TZNAME:UTC
DTSTART:20250101T000000
END:STANDARD
END:VTIMEZONE
BEGIN:VEVENT
DTSTART;TZID=UTC:20250227T193000
DTEND;TZID=UTC:20250227T203000
DTSTAMP:20260422T123304
CREATED:20250219T133307Z
LAST-MODIFIED:20250219T133447Z
UID:14418-1740684600-1740688200@woodshole.com
SUMMARY:WHOI's Ocean Encounters: Cities and the Sea
DESCRIPTION:Challenges and opportunities in the urban ocean\nMany of the world’s largest cities are located on the coast\, where people and infrastructure strike a tenuous balance with marine life and ecosystems. In these urban oceans heavily altered by pollution and human activities\, who struggles and who thrives? Join us as we explore impacts\, adaptations\, and new possibilities in urban ocean regions around the world. \nFor our Zoom viewers: We now have ASL interpretation! To enable\, please click the ASL button at the bottom of your Zoom screen.
URL:https://woodshole.com/event/whois-ocean-encounters-cities-and-the-sea/
LOCATION:MA
END:VEVENT
END:VCALENDAR