BEGIN:VCALENDAR
VERSION:2.0
PRODID:-//Woods Hole Business Association - ECPv6.2.0.1//NONSGML v1.0//EN
CALSCALE:GREGORIAN
METHOD:PUBLISH
X-WR-CALNAME:Woods Hole Business Association
X-ORIGINAL-URL:https://woodshole.com
X-WR-CALDESC:Events for Woods Hole Business Association
REFRESH-INTERVAL;VALUE=DURATION:PT1H
X-Robots-Tag:noindex
X-PUBLISHED-TTL:PT1H
BEGIN:VTIMEZONE
TZID:UTC
BEGIN:STANDARD
TZOFFSETFROM:+0000
TZOFFSETTO:+0000
TZNAME:UTC
DTSTART:20240101T000000
END:STANDARD
END:VTIMEZONE
BEGIN:VEVENT
DTSTART;TZID=UTC:20241026T080000
DTEND;TZID=UTC:20241026T170000
DTSTAMP:20260422T191444
CREATED:20241017T163000Z
LAST-MODIFIED:20241017T163000Z
UID:13439-1729929600-1729962000@woodshole.com
SUMMARY:Halloween in the Hole
DESCRIPTION:
URL:https://woodshole.com/event/halloween-in-the-hole-3/
LOCATION:Woods Hole
END:VEVENT
END:VCALENDAR