BEGIN:VCALENDAR
VERSION:2.0
PRODID:-//Woods Hole Business Association - ECPv6.2.0.1//NONSGML v1.0//EN
CALSCALE:GREGORIAN
METHOD:PUBLISH
X-ORIGINAL-URL:https://woodshole.com
X-WR-CALDESC:Events for Woods Hole Business Association
REFRESH-INTERVAL;VALUE=DURATION:PT1H
X-Robots-Tag:noindex
X-PUBLISHED-TTL:PT1H
BEGIN:VTIMEZONE
TZID:UTC
BEGIN:STANDARD
TZOFFSETFROM:+0000
TZOFFSETTO:+0000
TZNAME:UTC
DTSTART:20240101T000000
END:STANDARD
END:VTIMEZONE
BEGIN:VEVENT
DTSTART;TZID=UTC:20240929T020000
DTEND;TZID=UTC:20240929T150000
DTSTAMP:20260422T224816
CREATED:20240917T194425Z
LAST-MODIFIED:20240918T123022Z
UID:13277-1727575200-1727622000@woodshole.com
SUMMARY:MBL Falmouth Forum: "From Falmouth to the West Wing—A Speechwriter’s Journey" - Terry Szuplat\, Author
DESCRIPTION:Lectures are open to the public for in-person and virtual attendance. Free parking is available in any MBL lot. No registration required for in-person attendance. Please Note: This lecture is on a Sunday at 2pm. \nA book signing will follow the presentation \nLecture Abstract: Terry Szuplat\, one of President Obama’s longest-serving White House speechwriters\, will share the valuable lessons he learned in that role. He will explain how these insights can help anyone become a more compelling speaker\, communicator\, and leader in their own work and daily life. In addition to discussing his debut book\, Say It Well: Find Your Voice\, Speak Your Mind\, Inspire Any Audience\, Terry will reflect on his journey from his hometown of Falmouth\, Massachusetts\, to working alongside President Obama in the Oval Office\, aboard Air Force One\, and during their visits to more than 40 countries. \nTerry Szuplat\, a 1991 graduate of Falmouth High School\, served as a special assistant to President Barack Obama and a member of the National Security Council staff from 2009-2017\, and as deputy director of the White House Speechwriting Office from 2013-2017. Today\, he teaches political speechwriting as an adjunct professorial lecturer at his alma mater\, American University’s School of Public Affairs\, and runs his own speechwriting firm\, Global Voices Communications. Originally from East Falmouth\, he now lives outside Washington\, D.C. with his wife and two children.
URL:https://woodshole.com/event/mbl-falmouth-forum-from-falmouth-to-the-west-wing-a-speechwriters-journey-terry-szuplat-author/
LOCATION:Marine Biological Laboratory\, 7 MBL Street\, Woods Hole\, MA\, 02543\, United States
ATTACH;FMTTYPE=image/png:https://woodshole.com/wp-content/uploads/2024/09/Terry-Szuplat.png
ORGANIZER;CN="Marine%20Biological%20Laboratory":MAILTO:cjohnson@mbl.edu
END:VEVENT
END:VCALENDAR