BEGIN:VCALENDAR
VERSION:2.0
PRODID:-//Woods Hole Business Association - ECPv6.2.0.1//NONSGML v1.0//EN
CALSCALE:GREGORIAN
METHOD:PUBLISH
X-ORIGINAL-URL:https://woodshole.com
X-WR-CALDESC:Events for Woods Hole Business Association
REFRESH-INTERVAL;VALUE=DURATION:PT1H
X-Robots-Tag:noindex
X-PUBLISHED-TTL:PT1H
BEGIN:VTIMEZONE
TZID:UTC
BEGIN:STANDARD
TZOFFSETFROM:+0000
TZOFFSETTO:+0000
TZNAME:UTC
DTSTART:20240101T000000
END:STANDARD
END:VTIMEZONE
BEGIN:VEVENT
DTSTART;TZID=UTC:20240727T140000
DTEND;TZID=UTC:20240803T230000
DTSTAMP:20260424T154209
CREATED:20240620T125636Z
LAST-MODIFIED:20240627T121423Z
UID:7292-1722088800-1722726000@woodshole.com
SUMMARY:The 33rd Annual Woods Hole Film Festival
DESCRIPTION:The 33rd Woods Hole Film Festival is almost here! From Saturday\, July 27th through Saturday\, August 3rd join us as we celebrate 33 years of showcasing the work of emerging independent filmmakers from around the world. This year\, the Festival will be an eight day event with screenings and events available again both in-person and on the Festival’s virtual platform. And\, before the Festival there will be a special screening event on Friday\, July 26th\, showcasing the incredible documentary feature IN THE WHALE. Virtual screenings will be available on the Festival platform from Sunday\, August 4th through Sunday\, August 11th. Ticket packages and passes are on sale now. Individual tickets go on sale July 1st. \nThe 2024 film program includes 121 films selected from 19 countries: 20 feature narratives\, 27 feature documentaries\, and 74 short films. In addition to the films\, the Festival includes workshops\, panel discussions\, parties\, music and more. The schedule\, film descriptions and pass/ticket information are available at www.woodsholefilmfestival.org
URL:https://woodshole.com/event/the-33rd-annual-woods-hole-film-festival/
LOCATION:Woods Hole
ATTACH;FMTTYPE=image/jpeg:https://woodshole.com/wp-content/uploads/2024/06/WHFF-2024-Save-the-Date.jpg
ORGANIZER;CN="Woods%20Hole%20Film%20Festival":MAILTO:info@woodsholefilmfestival.org
END:VEVENT
END:VCALENDAR