BEGIN:VCALENDAR
VERSION:2.0
PRODID:-//Woods Hole Business Association - ECPv6.2.0.1//NONSGML v1.0//EN
CALSCALE:GREGORIAN
METHOD:PUBLISH
X-ORIGINAL-URL:https://woodshole.com
X-WR-CALDESC:Events for Woods Hole Business Association
REFRESH-INTERVAL;VALUE=DURATION:PT1H
X-Robots-Tag:noindex
X-PUBLISHED-TTL:PT1H
BEGIN:VTIMEZONE
TZID:UTC
BEGIN:STANDARD
TZOFFSETFROM:+0000
TZOFFSETTO:+0000
TZNAME:UTC
DTSTART:20240101T000000
END:STANDARD
END:VTIMEZONE
BEGIN:VEVENT
DTSTART;TZID=UTC:20240705T200000
DTEND;TZID=UTC:20240705T210000
DTSTAMP:20260424T173432
CREATED:20240629T163438Z
LAST-MODIFIED:20240629T163438Z
UID:7328-1720209600-1720213200@woodshole.com
SUMMARY:MBL Friday Evening Lecture Series: “Endless Forms Most Beautiful: Geometry\, Physics and Biology” - L Mahadevan\, Harvard University
DESCRIPTION:Lectures are open to the public for in-person and virtual attendance. No registration required for in-person attendance at the Cornelia Clapp Auditorium.\nDoors open at 7:30 PM\, lectures start at 8 PM. \nThe range of shapes in the plant (and animal) world is “enough to drive even the sanest man mad\,” wrote Darwin. Using examples from single cells to multicellular tissues to whole organisms\, this lecture will examine the “method in the madness” in these shapes. Motivated by both qualitative and quantitative biological observations\, Mahadevan will discuss the underlying rules that have formed that could guide the diversity and complexity of biological growth. In other words\, shining a light on how the “endless forms most beautiful and most wonderful have been\, and are being\, evolved.” \nL Mahadevan is the Lola England de Valpine Professor of Applied Mathematics\, Physics\, and Organismic and Evolutionary Biology at Harvard University\, where he also serves as a co-Faculty Dean of Mather House\, living and learning with a community of 400+ students. \nHis interests are broadly in the study of motion and matter at the human scale\, where phenomena are robust and easy to observe\, yet not always easy to explain. These include the patterns of shape and flow of inanimate matter on scales ranging from the supramolecular to the planetary\, and the dynamics of sentient living matter that can self-organize\, perceive and act. In all cases\, the aim is to get at a qualitative understanding using quantitative methods\, and get at general principles\, if there be such\, from answers to specific questions. Examples include the biophysical basis for morphogenesis\, the functional ethology of super-organisms\, the mathematics underlying art forms such as origami\, and the physics underlying musical instruments such as the steel pan.
URL:https://woodshole.com/event/mbl-friday-evening-lecture-series-endless-forms-most-beautiful-geometry-physics-and-biology-l-mahadevan-harvard-university/
LOCATION:Marine Biological Laboratory\, 7 MBL Street\, Woods Hole\, MA\, 02543\, United States
ATTACH;FMTTYPE=image/jpeg:https://woodshole.com/wp-content/uploads/2024/06/Mahadevan-headshot.jpg
ORGANIZER;CN="Marine%20Biological%20Laboratory":MAILTO:cjohnson@mbl.edu
END:VEVENT
END:VCALENDAR