BEGIN:VCALENDAR
VERSION:2.0
PRODID:-//Woods Hole Business Association - ECPv6.2.0.1//NONSGML v1.0//EN
CALSCALE:GREGORIAN
METHOD:PUBLISH
X-ORIGINAL-URL:https://woodshole.com
X-WR-CALDESC:Events for Woods Hole Business Association
REFRESH-INTERVAL;VALUE=DURATION:PT1H
X-Robots-Tag:noindex
X-PUBLISHED-TTL:PT1H
BEGIN:VTIMEZONE
TZID:America/New_York
BEGIN:DAYLIGHT
TZOFFSETFROM:-0500
TZOFFSETTO:-0400
TZNAME:EDT
DTSTART:20230312T070000
END:DAYLIGHT
BEGIN:STANDARD
TZOFFSETFROM:-0400
TZOFFSETTO:-0500
TZNAME:EST
DTSTART:20231105T060000
END:STANDARD
END:VTIMEZONE
BEGIN:VEVENT
DTSTART;TZID=America/New_York:20230916T160000
DTEND;TZID=America/New_York:20230916T170000
DTSTAMP:20260420T145133
CREATED:20230818T122954Z
LAST-MODIFIED:20230818T122954Z
UID:4981-1694880000-1694883600@woodshole.com
SUMMARY:NEW BEDFORD HARBON SEA CHANTEY CHORUS AT WOODS HOLE COMMUNITY HALL
DESCRIPTION:The New Bedford Harbor Sea Chantey Chorus presents a program of chanteys and maritime music celebrating the return of Schooner Ernestina-Morrissey and its entry in the fleet of Mass Maritime Academy. \nThe New Bedford Harbor Sea Chantey Chorus returns to Woods Hole\, under direction of well-known\, Cape Codder\, Tom Goux\, “One of the most harmonious crews ever to come ashore\,” the Chorus will perform a variety of chanteys and songs that reflect the rich maritime heritage of New England and the lives of the Schooner Ernestina-Morrissey. The Chorus has appeared at various Falmouth venues to enthusiastic response since its founding in 2001. \nThis program is presented by and for the benefit of the Woods Hole Historical Museum. Tickets are $20 and all proceeds benefit the museum. For ticket information\, please email whhmdirector@gmail.com or call 508.548.7270.
URL:https://woodshole.com/event/new-bedford-harbon-sea-chantey-chorus-at-woods-hole-community-hall/
LOCATION:Woods Hole Community Hall\, 68 Water St.\, Falmouth\, MA\, 02543\, United States
ATTACH;FMTTYPE=image/jpeg:https://woodshole.com/wp-content/uploads/2023/08/2019-NBHSSC-publicity-photo-scaled.jpg
ORGANIZER;CN="Woods%20Hole%20Historical%20Museum":MAILTO:whhmdirector@gmail.com
END:VEVENT
END:VCALENDAR