BEGIN:VCALENDAR
VERSION:2.0
PRODID:-//Woods Hole Business Association - ECPv6.2.0.1//NONSGML v1.0//EN
CALSCALE:GREGORIAN
METHOD:PUBLISH
X-WR-CALNAME:Woods Hole Business Association
X-ORIGINAL-URL:https://woodshole.com
X-WR-CALDESC:Events for Woods Hole Business Association
REFRESH-INTERVAL;VALUE=DURATION:PT1H
X-Robots-Tag:noindex
X-PUBLISHED-TTL:PT1H
BEGIN:VTIMEZONE
TZID:UTC
BEGIN:STANDARD
TZOFFSETFROM:+0000
TZOFFSETTO:+0000
TZNAME:UTC
DTSTART:20220101T000000
END:STANDARD
END:VTIMEZONE
BEGIN:VEVENT
DTSTART;VALUE=DATE:20221217
DTEND;VALUE=DATE:20221218
DTSTAMP:20260424T155021
CREATED:20221207T171208Z
LAST-MODIFIED:20221207T171420Z
UID:4649-1671235200-1671321599@woodshole.com
SUMMARY:Woods Hole Holiday Stroll
DESCRIPTION:Community support powered by Martha’s Vineyard Bank \nSchedule of events\nWOODS HOLE SCIENCE AQUARIUM\n11 am Santa arrives!\n11 am-2 pm Meet Santa  (Aquarium hours: 10-3pm) \nMARTHA’S VINEYARD BANK\n11 am-1 pm Hot drinks and treats with Mrs. Claus in front of the bank \nWOODS HOLE PUBLIC LIBRARY\n1-5:30 pm Library & book sale and craft supplies available in children’s room \nMASTERSON MADE\n3-4 pm Wine tasting and charcuterie board. Cutting board raffle \nCAPTAIN KIDD\n4-6 pm $1 oysters/$1 wings \nCOMMUNITY HALL\nThe Solstice Singers presentation of “The Holly and the Ivy”. Showings at 4 pm and 7 pm \nWOODS HOLE MARKET & PROVISIONS\nHoliday treats and gift card raffle \nSOFT AS A GRAPE\n20% off sweatshirts\, sweatpants\, blankets\, ponchos & winter accessories \nWOODS HOLE INN\nTasty treats & tour of decorative Woods Hole Inn \nINLET\nRefreshments and pop up with LilWolfGoods \nPIE IN THE SKY\nHot apple cider & gift card raffle
URL:https://woodshole.com/event/woods-hole-holiday-stroll/
LOCATION:Woods Hole
ATTACH;FMTTYPE=image/jpeg:https://woodshole.com/wp-content/uploads/2022/12/WH-Stroll-ad-v3-full-scaled.jpg
END:VEVENT
END:VCALENDAR