BEGIN:VCALENDAR
VERSION:2.0
PRODID:-//Woods Hole Business Association - ECPv6.2.0.1//NONSGML v1.0//EN
CALSCALE:GREGORIAN
METHOD:PUBLISH
X-ORIGINAL-URL:https://woodshole.com
X-WR-CALDESC:Events for Woods Hole Business Association
REFRESH-INTERVAL;VALUE=DURATION:PT1H
X-Robots-Tag:noindex
X-PUBLISHED-TTL:PT1H
BEGIN:VTIMEZONE
TZID:UTC
BEGIN:STANDARD
TZOFFSETFROM:+0000
TZOFFSETTO:+0000
TZNAME:UTC
DTSTART:20220101T000000
END:STANDARD
END:VTIMEZONE
BEGIN:VEVENT
DTSTART;VALUE=DATE:20220730
DTEND;VALUE=DATE:20220807
DTSTAMP:20260422T161306
CREATED:20220715T194303Z
LAST-MODIFIED:20220715T194303Z
UID:4535-1659139200-1659830399@woodshole.com
SUMMARY:31st Woods Hole Film Festival
DESCRIPTION:The Woods Hole Film Festival celebrates its 31st year of bringing the best in independent film from around the world to Cape Cod. The festival dates are Saturday\, July 30 through Saturday\, August 6. \nThe film program includes 116 films selected from submissions from around the world: 17 feature narratives\, 27 feature documentaries\, and 72 short films. \nIn spite of the challenges of presenting a film festival during a pandemic\, we are thrilled that this year we will be fully back in-person with live screenings at Redfield Auditorium (WHOI)\, Clapp Auditorium (MBL)\, Falmouth Academy\, and the Cotuit Center for the Arts. We will also offer the festival program on the WHFF virtual platform for virtual pass and virtual ticket holders. \nTicket Packages for in-person screenings and Virtual Passes are on sale now at www.woodsholefilmfestival.org. \nIndividual tickets for in-person and virtual screenings on sale now. \nFollow us on Facebook and Instagram and check our website for more details and updates. \nWe look forward to welcoming everyone to the 31st Woods Hole Film Festival.
URL:https://woodshole.com/event/31st-woods-hole-film-festival/
LOCATION:Woods Hole Film Festival Headquarters\, 89 Water Street Second Floor\, Woods Hole\, MA\, 02543\, United States
ATTACH;FMTTYPE=image/jpeg:https://woodshole.com/wp-content/uploads/2022/07/WBUR-horizontal-WHFF-poster.jpg
ORGANIZER;CN="Woods%20Hole%20Film%20Festival":MAILTO:info@woodsholefilmfestival.org
END:VEVENT
END:VCALENDAR