BEGIN:VCALENDAR
VERSION:2.0
PRODID:-//Woods Hole Business Association - ECPv6.2.0.1//NONSGML v1.0//EN
CALSCALE:GREGORIAN
METHOD:PUBLISH
X-ORIGINAL-URL:https://woodshole.com
X-WR-CALDESC:Events for Woods Hole Business Association
REFRESH-INTERVAL;VALUE=DURATION:PT1H
X-Robots-Tag:noindex
X-PUBLISHED-TTL:PT1H
BEGIN:VTIMEZONE
TZID:UTC
BEGIN:STANDARD
TZOFFSETFROM:+0000
TZOFFSETTO:+0000
TZNAME:UTC
DTSTART:20220101T000000
END:STANDARD
END:VTIMEZONE
BEGIN:VEVENT
DTSTART;TZID=UTC:20220203T180000
DTEND;TZID=UTC:20220228T180000
DTSTAMP:20260422T141940
CREATED:20220205T163729Z
LAST-MODIFIED:20220205T163729Z
UID:4428-1643911200-1646071200@woodshole.com
SUMMARY:Virtual Book Reading in partnership with Footprints Café
DESCRIPTION:Virtual book reading of I AM EVERY GOOD THING and The Me I Choose to Be\, in partnership with Footprints Café\nRead by Stefanie Corbin\, owner of Footprints Café. The books are appropriate for ages ~4-8. \nFootprints Cafe is a black\, woman-owned\, bookstore. A place where inclusivity and diversity is celebrated and honored. A bookstore where people and authors of color voices are amplified and represented in their fullness.
URL:https://woodshole.com/event/virtual-book-reading-in-partnership-with-footprints-cafe/
LOCATION:MA
END:VEVENT
BEGIN:VEVENT
DTSTART;TZID=UTC:20220224T180000
DTEND;TZID=UTC:20220224T190000
DTSTAMP:20260422T141940
CREATED:20220205T171012Z
LAST-MODIFIED:20220205T171012Z
UID:4434-1645725600-1645729200@woodshole.com
SUMMARY:What Lies Beneath: Unearthing Not-So-Subtle Roadblocks to Wellness
DESCRIPTION:Presented by Dr. Misty Boachie\, the Founder and CEO of Excavate Wellness. \nDr. Boachie is a Pharmacotherapy Board Certified Pharmacist\, currently serving in leadership at Northside Hospital. She holds a Doctor of Pharmacy from the University of Georgia (’01) and Master of Business Administration from George Washington University (’17). She completed a Pharmacy Practice Residency at Columbus Regional Healthcare System (’02). She resides in Atlanta\, Georgia with her husband\, Kofi\, and sons\, August (12yo) and Alistair (10yo). \nPresentation abstract: An intimate\, solutions-oriented exploration of often unexamined obstacles to achieving optimal physical and emotional wellbeing namely trauma\, addiction\, and mental illness. This lecture will be a 30 minute presentation followed by 30 mins of Q&A.
URL:https://woodshole.com/event/what-lies-beneath-unearthing-not-so-subtle-roadblocks-to-wellness/
LOCATION:MA
END:VEVENT
END:VCALENDAR